BEGIN:VCALENDAR
VERSION:2.0
PRODID:-//Juvelize, village du Saulnois en Moselle//NONSGML kigkonsult.se iCalcreator 2.41.92//
CALSCALE:GREGORIAN
METHOD:PUBLISH
UID:34653937-3134-4430-a665-373630613932
X-WR-CALNAME:iCagenda
X-WR-CALDESC:Event Management Extension for Joomla!
X-WR-RELCALID:3E26604A-50F4-4449-8B3E-E4F4932D05B5
X-WR-TIMEZONE:Europe/Paris
BEGIN:VTIMEZONE
TZID:Europe/Paris
TZUNTIL:20271031T010000Z
BEGIN:STANDARD
TZNAME:CET
DTSTART:20251026T030000
TZOFFSETFROM:+0200
TZOFFSETTO:+0100
RDATE:20261025T030000
END:STANDARD
BEGIN:DAYLIGHT
TZNAME:CEST
DTSTART:20260329T020000
TZOFFSETFROM:+0100
TZOFFSETTO:+0200
RDATE:20270328T020000
END:DAYLIGHT
END:VTIMEZONE
BEGIN:VEVENT
UID:35353666-3535-4335-b038-313565396537
DTSTAMP:20260422T145411Z
CATEGORIES:Les Ateliers
CLASS:PUBLIC
DESCRIPTION;ALTREP="CID:<FFFF__=0ABBE548DFE235B58f9e8a93d@coffeebean.com>":
 Dans les pas de Robert FilliouMercredi 13 mai à 10hDécouvre l'univers d'un
  artiste à travers ses œuvres ! Participe à des mini-jeux et des quizz ave
 c ton équipe. Deviens ensuite un véritable artiste en t'inspirant de sa fa
 çon de créer.(Animation gratuite\, dès 7 ans\, sur inscription)\n&nbsp\;\n
 &nbsp\;
DTSTART:20260422T073000Z
DTEND:20260422T073000Z
GEO:+48.886673;+6.393178
LOCATION:Médiathèque de Delme la synagogue de Delme
ORGANIZER;CN=:mailto:mediathequededelme@orange.fr
SEQUENCE:1
SUMMARY:Dans les pas de Robert Filliou
TRANSP:OPAQUE
URL:https://saulnois.juvelize.com/index.php/component/icagenda/1000-dans-le
 s-pas-de-robert-filliou/2026-04-22-09-30?layout=vcal
END:VEVENT
END:VCALENDAR
