BEGIN:VCALENDAR
VERSION:2.0
PRODID:-//Juvelize, village du Saulnois en Moselle//NONSGML kigkonsult.se iCalcreator 2.41.92//
CALSCALE:GREGORIAN
METHOD:PUBLISH
UID:62636266-6133-4839-b738-333035366434
X-WR-CALNAME:iCagenda
X-WR-CALDESC:Event Management Extension for Joomla!
X-WR-RELCALID:3E26604A-50F4-4449-8B3E-E4F4932D05B5
X-WR-TIMEZONE:Europe/Paris
BEGIN:VTIMEZONE
TZID:Europe/Paris
TZUNTIL:20271031T010000Z
BEGIN:STANDARD
TZNAME:CET
DTSTART:20251026T030000
TZOFFSETFROM:+0200
TZOFFSETTO:+0100
RDATE:20261025T030000
END:STANDARD
BEGIN:DAYLIGHT
TZNAME:CEST
DTSTART:20260329T020000
TZOFFSETFROM:+0100
TZOFFSETTO:+0200
RDATE:20270328T020000
END:DAYLIGHT
END:VTIMEZONE
BEGIN:VEVENT
UID:61666339-6535-4436-a266-623932633938
DTSTAMP:20260425T115714Z
CATEGORIES:Les Expositions
CLASS:PUBLIC
DESCRIPTION;ALTREP="CID:<FFFF__=0ABBE548DFE235B58f9e8a93d@coffeebean.com>":
 [Exposition « Le Trésor de Bassing » - Musée du Sel]\n&nbsp\;Découvert en 
 2010 en Moselle\, le Trésor de Bassing est au cœur d’une exposition captiv
 ante au Musée départemental du Sel.\nPièces de monnaie en or et en argent\
 , bijoux raffinés et objets précieux témoignent du savoir-faire artisanal 
 et de la richesse historique de cette découverte exceptionnelle.\nUne imme
 rsion fascinante dans le passé pour mieux comprendre l’importance culturel
 le et archéologique de ce trésor \n Du 25 avril au 30 novembre 2026\n Musé
 e départemental du Sel\, Marsal\n&nbsp\;
DTSTART:20260425T073000Z
DTEND:20260425T160000Z
GEO:+48.788326;+6.605782
LOCATION:Musée du Sel  Porte de France Marsal
ORGANIZER;CN=:mailto:mdsm@moselle.fr
SEQUENCE:1
SUMMARY:Le trésor de Bassing au Musée du Sel de Marsal
TRANSP:OPAQUE
URL:https://saulnois.juvelize.com/index.php/component/icagenda/960-le-treso
 r-de-bassing-au-musee-du-sel-de-marsal/2026-04-25-09-30?layout=vcal
END:VEVENT
END:VCALENDAR
