BEGIN:VCALENDAR
VERSION:2.0
PRODID:-//Juvelize, village du Saulnois en Moselle//NONSGML kigkonsult.se iCalcreator 2.41.92//
CALSCALE:GREGORIAN
METHOD:PUBLISH
UID:33633137-3930-4132-a265-373933636635
X-WR-CALNAME:iCagenda
X-WR-CALDESC:Event Management Extension for Joomla!
X-WR-RELCALID:3E26604A-50F4-4449-8B3E-E4F4932D05B5
X-WR-TIMEZONE:Europe/Paris
BEGIN:VTIMEZONE
TZID:Europe/Paris
TZUNTIL:20271031T010000Z
BEGIN:STANDARD
TZNAME:CET
DTSTART:20251026T030000
TZOFFSETFROM:+0200
TZOFFSETTO:+0100
RDATE:20261025T030000
END:STANDARD
BEGIN:DAYLIGHT
TZNAME:CEST
DTSTART:20260329T020000
TZOFFSETFROM:+0100
TZOFFSETTO:+0200
RDATE:20270328T020000
END:DAYLIGHT
END:VTIMEZONE
BEGIN:VEVENT
UID:64336632-6530-4238-b633-383463623263
DTSTAMP:20260422T145850Z
CATEGORIES:Les Ateliers
CLASS:PUBLIC
DESCRIPTION;ALTREP="CID:<FFFF__=0ABBE548DFE235B58f9e8a93d@coffeebean.com>":
 Mercredi 6 mai de 10h à 11hRéappropriez-vous la musique et les sons à trav
 ers des lectures\, des ateliers sonores et un bricolage.(Animation gratuit
 e\, pour les 2-4 ans\, sur inscription auprès du périscolaire periscolaire
 .delme57@gmail.com)\n&nbsp\;\n&nbsp\;
DTSTART:20260422T073000Z
DTEND:20260422T073000Z
GEO:+48.886673;+6.393178
LOCATION:Médiathèque de Delme la synagogue de Delme
ORGANIZER;CN=:mailto:mediathequededelme@orange.fr
SEQUENCE:1
SUMMARY:Projet Passerelle : Histoire de mots
TRANSP:OPAQUE
URL:https://saulnois.juvelize.com/index.php/component/icagenda/999-projet-p
 asserelle-histoire-de-mots-2/2026-04-22-09-30?layout=vcal
END:VEVENT
END:VCALENDAR
